BEGIN:VCALENDAR
VERSION:2.0
PRODID:-//Ice Age Floods Institute - ECPv6.15.20//NONSGML v1.0//EN
CALSCALE:GREGORIAN
METHOD:PUBLISH
X-ORIGINAL-URL:https://iafi.org
X-WR-CALDESC:Events for Ice Age Floods Institute
REFRESH-INTERVAL;VALUE=DURATION:PT1H
X-Robots-Tag:noindex
X-PUBLISHED-TTL:PT1H
BEGIN:VTIMEZONE
TZID:America/Los_Angeles
BEGIN:DAYLIGHT
TZOFFSETFROM:-0800
TZOFFSETTO:-0700
TZNAME:PDT
DTSTART:20250309T100000
END:DAYLIGHT
BEGIN:STANDARD
TZOFFSETFROM:-0700
TZOFFSETTO:-0800
TZNAME:PST
DTSTART:20251102T090000
END:STANDARD
BEGIN:DAYLIGHT
TZOFFSETFROM:-0800
TZOFFSETTO:-0700
TZNAME:PDT
DTSTART:20260308T100000
END:DAYLIGHT
BEGIN:STANDARD
TZOFFSETFROM:-0700
TZOFFSETTO:-0800
TZNAME:PST
DTSTART:20261101T090000
END:STANDARD
BEGIN:DAYLIGHT
TZOFFSETFROM:-0800
TZOFFSETTO:-0700
TZNAME:PDT
DTSTART:20270314T100000
END:DAYLIGHT
BEGIN:STANDARD
TZOFFSETFROM:-0700
TZOFFSETTO:-0800
TZNAME:PST
DTSTART:20271107T090000
END:STANDARD
END:VTIMEZONE
BEGIN:VEVENT
DTSTART;TZID=America/Los_Angeles:20260320T170000
DTEND;TZID=America/Los_Angeles:20260320T180000
DTSTAMP:20260424T124842
CREATED:20260216T045921Z
LAST-MODIFIED:20260216T045921Z
UID:41696-1774026000-1774029600@iafi.org
SUMMARY:Mega-Floods of the World - The Legacy of Dr. Bretz' Work
DESCRIPTION:Researchers have established\, based on the pioneering work of Dr. J Harlen Bretz and JT Pardee\, that over 140 Ancient Mega-Flood\, including Noah’s Flood are discussed in oral traditions worldwide. Professional geologist Bill Burgel will briefly discuss how the research related to the Missoula Floods and Bonneville Flood has opened up the possibility of mega-floods being the most likely explanation for the formation of the Mediterranean Sea\, the Persian Gulf\, The Bosphorus Straits\, the English Channel\, Chimu in Peru and the floodwaters on Mars. Mega-flood events are also being cited for the draining of Glacial Lake Agassiz\, Glacial Lake Iroquois and the Grand Canyon of the Yellowstone. 
URL:https://iafi.org/event/mega-floods-of-the-world-the-legacy-of-dr-bretz-work/
LOCATION:Ritzville Public Library\, 302 West Main Street\, Ritzville\, Washington\, 99169
CATEGORIES:Activity,All IAFI,Palouse Falls,Presentation
ORGANIZER;CN="Palouse Falls Chapter":MAILTO:palousefalls@iafi.org
END:VEVENT
END:VCALENDAR