BEGIN:VCALENDAR
VERSION:2.0
PRODID:-//Ice Age Floods Institute - ECPv6.15.20//NONSGML v1.0//EN
CALSCALE:GREGORIAN
METHOD:PUBLISH
X-WR-CALNAME:Ice Age Floods Institute
X-ORIGINAL-URL:https://iafi.org
X-WR-CALDESC:Events for Ice Age Floods Institute
REFRESH-INTERVAL;VALUE=DURATION:PT1H
X-Robots-Tag:noindex
X-PUBLISHED-TTL:PT1H
BEGIN:VTIMEZONE
TZID:America/Los_Angeles
BEGIN:DAYLIGHT
TZOFFSETFROM:-0800
TZOFFSETTO:-0700
TZNAME:PDT
DTSTART:20240310T100000
END:DAYLIGHT
BEGIN:STANDARD
TZOFFSETFROM:-0700
TZOFFSETTO:-0800
TZNAME:PST
DTSTART:20241103T090000
END:STANDARD
BEGIN:DAYLIGHT
TZOFFSETFROM:-0800
TZOFFSETTO:-0700
TZNAME:PDT
DTSTART:20250309T100000
END:DAYLIGHT
BEGIN:STANDARD
TZOFFSETFROM:-0700
TZOFFSETTO:-0800
TZNAME:PST
DTSTART:20251102T090000
END:STANDARD
BEGIN:DAYLIGHT
TZOFFSETFROM:-0800
TZOFFSETTO:-0700
TZNAME:PDT
DTSTART:20260308T100000
END:DAYLIGHT
BEGIN:STANDARD
TZOFFSETFROM:-0700
TZOFFSETTO:-0800
TZNAME:PST
DTSTART:20261101T090000
END:STANDARD
END:VTIMEZONE
BEGIN:VEVENT
DTSTART;TZID=America/Los_Angeles:20250428T173000
DTEND;TZID=America/Los_Angeles:20250428T183000
DTSTAMP:20260420T134836
CREATED:20250310T195158Z
LAST-MODIFIED:20250419T170639Z
UID:39900-1745861400-1745865000@iafi.org
SUMMARY:Tom Pierson - Geology of the Gorge
DESCRIPTION:Tom Pierson\, retired USGS Geologist/Hydrologist\, will present an overview of the catastrophic forces and events that have shaped the Columbia Gorge that we know today.  Our majestic ancient river has fended off unceasing\, violent geologic attempts to block it and divert it\, but it keeps on flowing–it’s quite a story. Tom will describe how small and huge volcanic eruptions\, colossal floods\, enormous landslides\, and the grinding forces of tectonic crustal deformation have all taken their shots\, yet the Columbia still flows to the sea. If you know where to look\, you can see the evidence of these old heavyweight knockout rounds.   \nThis talk will be hosted by the Columbia River Gorge Chapter of Ice Age Floods Institute at the White Salmon Community Library\, beginning at 5:30pm on Monday\, April 28.
URL:https://iafi.org/event/tom-pierson-geology-of-the-gorge/
LOCATION:White Salmon Valley Community Library\, 77 NE Wauna Ave\, White Salmon\, WA\, 98672\, United States
CATEGORIES:Columbia Gorge,Meeting,Presentation
ATTACH;FMTTYPE=image/jpeg:https://iafi.org/wp-content/uploads/Tom-Pierson.jpg
END:VEVENT
END:VCALENDAR