BEGIN:VCALENDAR
VERSION:2.0
PRODID:-//Ice Age Floods Institute - ECPv6.15.20//NONSGML v1.0//EN
CALSCALE:GREGORIAN
METHOD:PUBLISH
X-WR-CALNAME:Ice Age Floods Institute
X-ORIGINAL-URL:https://iafi.org
X-WR-CALDESC:Events for Ice Age Floods Institute
REFRESH-INTERVAL;VALUE=DURATION:PT1H
X-Robots-Tag:noindex
X-PUBLISHED-TTL:PT1H
BEGIN:VTIMEZONE
TZID:America/Los_Angeles
BEGIN:DAYLIGHT
TZOFFSETFROM:-0800
TZOFFSETTO:-0700
TZNAME:PDT
DTSTART:20240310T100000
END:DAYLIGHT
BEGIN:STANDARD
TZOFFSETFROM:-0700
TZOFFSETTO:-0800
TZNAME:PST
DTSTART:20241103T090000
END:STANDARD
BEGIN:DAYLIGHT
TZOFFSETFROM:-0800
TZOFFSETTO:-0700
TZNAME:PDT
DTSTART:20250309T100000
END:DAYLIGHT
BEGIN:STANDARD
TZOFFSETFROM:-0700
TZOFFSETTO:-0800
TZNAME:PST
DTSTART:20251102T090000
END:STANDARD
BEGIN:DAYLIGHT
TZOFFSETFROM:-0800
TZOFFSETTO:-0700
TZNAME:PDT
DTSTART:20260308T100000
END:DAYLIGHT
BEGIN:STANDARD
TZOFFSETFROM:-0700
TZOFFSETTO:-0800
TZNAME:PST
DTSTART:20261101T090000
END:STANDARD
END:VTIMEZONE
BEGIN:VEVENT
DTSTART;TZID=America/Los_Angeles:20250428T183000
DTEND;TZID=America/Los_Angeles:20250428T193000
DTSTAMP:20260421T020522
CREATED:20250104T224507Z
LAST-MODIFIED:20250104T225756Z
UID:39423-1745865000-1745868600@iafi.org
SUMMARY:How the Ice Age Floods Changed the Course of the Palouse River
DESCRIPTION:Palouse Falls – Photo Glenn Traver\nBefore the Ice Age Floods\, the Palouse River would have flowed through present day Washtucna\, Kahlotus\, Connell\, Mesa\, and Eltopia before entering the Columbia River near the Pasco Airport. Today\, it takes a fifty-mile shortcut to the Snake River at Lyons Ferry via the Palouse Canyon and Palouse Falls. \nIn this presentation by Lloyd Stoess\, President\, Palouse Falls Chapter\, IAFI\, we look at the two factors that caused this dramatic shift—either one by itself would not have been enough. To examine when this happened\, we look at some possibilities and clues recently discovered by scientists. \nPresented in partnership with Ice Age Floods Institute (IAFI) \n(Registration required on SCLD website. Registration opens at 6:30 PM Monday\, March 31\, 2025.)
URL:https://iafi.org/event/how-the-ice-age-floods-changed-the-course-of-the-palouse-river/
LOCATION:Moran Prairie Library\, 6004 S Regal St\, Spokane\, WA\, 99223
CATEGORIES:Cheney-Spokane,Presentation
ATTACH;FMTTYPE=image/jpeg:https://iafi.org/wp-content/uploads/Lloyd-Stoess-150x150-1.jpg
ORGANIZER;CN="Cheney-Spokane Chapter":MAILTO:iaficheneyspokane@gmail.com
END:VEVENT
END:VCALENDAR