BEGIN:VCALENDAR
VERSION:2.0
PRODID:-//Ice Age Floods Institute - ECPv6.15.20//NONSGML v1.0//EN
CALSCALE:GREGORIAN
METHOD:PUBLISH
X-WR-CALNAME:Ice Age Floods Institute
X-ORIGINAL-URL:https://iafi.org
X-WR-CALDESC:Events for Ice Age Floods Institute
REFRESH-INTERVAL;VALUE=DURATION:PT1H
X-Robots-Tag:noindex
X-PUBLISHED-TTL:PT1H
BEGIN:VTIMEZONE
TZID:America/Los_Angeles
BEGIN:DAYLIGHT
TZOFFSETFROM:-0800
TZOFFSETTO:-0700
TZNAME:PDT
DTSTART:20240310T100000
END:DAYLIGHT
BEGIN:STANDARD
TZOFFSETFROM:-0700
TZOFFSETTO:-0800
TZNAME:PST
DTSTART:20241103T090000
END:STANDARD
BEGIN:DAYLIGHT
TZOFFSETFROM:-0800
TZOFFSETTO:-0700
TZNAME:PDT
DTSTART:20250309T100000
END:DAYLIGHT
BEGIN:STANDARD
TZOFFSETFROM:-0700
TZOFFSETTO:-0800
TZNAME:PST
DTSTART:20251102T090000
END:STANDARD
BEGIN:DAYLIGHT
TZOFFSETFROM:-0800
TZOFFSETTO:-0700
TZNAME:PDT
DTSTART:20260308T100000
END:DAYLIGHT
BEGIN:STANDARD
TZOFFSETFROM:-0700
TZOFFSETTO:-0800
TZNAME:PST
DTSTART:20261101T090000
END:STANDARD
END:VTIMEZONE
BEGIN:VEVENT
DTSTART;TZID=America/Los_Angeles:20250726T120000
DTEND;TZID=America/Los_Angeles:20250726T140000
DTSTAMP:20260420T212500
CREATED:20250304T171408Z
LAST-MODIFIED:20250611T003831Z
UID:39864-1753531200-1753538400@iafi.org
SUMMARY:Rescheduled Cheney-Spokane Chapter Hike – Waikiki Springs
DESCRIPTION:Join us for a scenic and informative hike north of Spokane\, where geologist Michael Hamilton\, an IAFICS board member\, will guide us through fascinating Ice Age flood features. This newly protected conservation area boasts well-established trails and stunning geological formations. \nAt Waikiki Springs\, the Spokane Aquifer emerges from beneath an ancient\, sand-and-gravel-filled valley—evidence of the massive outburst floods that shaped the region during the last Ice Age. \nGroup size is limited to the first 20 registrants. Once you sign up\, we’ll provide full hike details and keep you updated on any changes leading up to the event. \n\nResources: Waikiki Springs Nature Preserve
URL:https://iafi.org/event/cheney-spokane-chapter-hike-waikiki-springs-july2025/
LOCATION:Waikiki Springs Trailhead\, Washington\, 99218
CATEGORIES:Activity,Cheney-Spokane,Hike
ATTACH;FMTTYPE=image/png:https://iafi.org/wp-content/uploads/Waikiki-Springs-Nature-Preserve-Spokane.png
ORGANIZER;CN="Cheney-Spokane Chapter":MAILTO:iaficheneyspokane@gmail.com
END:VEVENT
END:VCALENDAR