BEGIN:VCALENDAR
VERSION:2.0
PRODID:-//Ice Age Floods Institute - ECPv6.15.20//NONSGML v1.0//EN
CALSCALE:GREGORIAN
METHOD:PUBLISH
X-ORIGINAL-URL:https://iafi.org
X-WR-CALDESC:Events for Ice Age Floods Institute
REFRESH-INTERVAL;VALUE=DURATION:PT1H
X-Robots-Tag:noindex
X-PUBLISHED-TTL:PT1H
BEGIN:VTIMEZONE
TZID:America/Los_Angeles
BEGIN:DAYLIGHT
TZOFFSETFROM:-0800
TZOFFSETTO:-0700
TZNAME:PDT
DTSTART:20250309T100000
END:DAYLIGHT
BEGIN:STANDARD
TZOFFSETFROM:-0700
TZOFFSETTO:-0800
TZNAME:PST
DTSTART:20251102T090000
END:STANDARD
BEGIN:DAYLIGHT
TZOFFSETFROM:-0800
TZOFFSETTO:-0700
TZNAME:PDT
DTSTART:20260308T100000
END:DAYLIGHT
BEGIN:STANDARD
TZOFFSETFROM:-0700
TZOFFSETTO:-0800
TZNAME:PST
DTSTART:20261101T090000
END:STANDARD
BEGIN:DAYLIGHT
TZOFFSETFROM:-0800
TZOFFSETTO:-0700
TZNAME:PDT
DTSTART:20270314T100000
END:DAYLIGHT
BEGIN:STANDARD
TZOFFSETFROM:-0700
TZOFFSETTO:-0800
TZNAME:PST
DTSTART:20271107T090000
END:STANDARD
END:VTIMEZONE
BEGIN:VEVENT
DTSTART;TZID=America/Los_Angeles:20260310T180000
DTEND;TZID=America/Los_Angeles:20260310T193000
DTSTAMP:20260420T055834
CREATED:20260224T193857Z
LAST-MODIFIED:20260224T193857Z
UID:41757-1773165600-1773171000@iafi.org
SUMMARY:The Ice Age Floods History of the Cheney Area
DESCRIPTION:The landscape upon which the town of Cheney has been built bears silent witness to one of the greatest series of catastrophic floods that has ever been documented on our planet. In this talk\, we delve into how the leading scientists\, both past and present\, have interpreted this landscape as a consequence of one immense glacial lake pouring into another glacial lake\, which then overflowed and breached the southern shoreline to create the vast channeled scablands.  \nPresented by Dr. Linda McCollum\, professor emeritus of geosciences at EWU and president of the Ice Age Floods Institute (IAFI)\, Cheney-Spokane Chapter \nRegistration is required.
URL:https://iafi.org/event/ice-age-floods-history-cheney-2026/
LOCATION:Cheney Community Library\, 610 1st St\, Cheney\, WA\, 99004
CATEGORIES:Cheney-Spokane,Presentation
ATTACH;FMTTYPE=image/jpeg:https://iafi.org/wp-content/uploads/Linda-McCollum-e1705046318535.jpg
ORGANIZER;CN="Cheney-Spokane Chapter":MAILTO:iaficheneyspokane@gmail.com
END:VEVENT
BEGIN:VEVENT
DTSTART;TZID=America/Los_Angeles:20260320T170000
DTEND;TZID=America/Los_Angeles:20260320T180000
DTSTAMP:20260420T055834
CREATED:20260216T045921Z
LAST-MODIFIED:20260216T045921Z
UID:41696-1774026000-1774029600@iafi.org
SUMMARY:Mega-Floods of the World - The Legacy of Dr. Bretz' Work
DESCRIPTION:Researchers have established\, based on the pioneering work of Dr. J Harlen Bretz and JT Pardee\, that over 140 Ancient Mega-Flood\, including Noah’s Flood are discussed in oral traditions worldwide. Professional geologist Bill Burgel will briefly discuss how the research related to the Missoula Floods and Bonneville Flood has opened up the possibility of mega-floods being the most likely explanation for the formation of the Mediterranean Sea\, the Persian Gulf\, The Bosphorus Straits\, the English Channel\, Chimu in Peru and the floodwaters on Mars. Mega-flood events are also being cited for the draining of Glacial Lake Agassiz\, Glacial Lake Iroquois and the Grand Canyon of the Yellowstone. 
URL:https://iafi.org/event/mega-floods-of-the-world-the-legacy-of-dr-bretz-work/
LOCATION:Ritzville Public Library\, 302 West Main Street\, Ritzville\, Washington\, 99169
CATEGORIES:Activity,All IAFI,Palouse Falls,Presentation
ORGANIZER;CN="Palouse Falls Chapter":MAILTO:palousefalls@iafi.org
END:VEVENT
BEGIN:VEVENT
DTSTART;TZID=America/Los_Angeles:20260321T100000
DTEND;TZID=America/Los_Angeles:20260321T110000
DTSTAMP:20260420T055834
CREATED:20260212T043507Z
LAST-MODIFIED:20260212T043507Z
UID:41653-1774087200-1774090800@iafi.org
SUMMARY:Mega Floods\, Ice Ages\, Volcanic Eruptions\, Earthquakes\, and other things that could keep you awake at night but probably shouldn't
DESCRIPTION:This presentation will begin by defining what an Ice Age is and then looking at our dynamic planet and those major events that can lead to dramatic temperature changes. Also included will be a look at hazards here in the Pacific Northwest and why they occur.
URL:https://iafi.org/event/mega-floods-ice-ages-volcanic-eruptions-earthquakes-and-other-things-that-could-keep-you-awake-at-night-but-probably-shouldnt/
LOCATION:McFarland Middle School\, 790 S. 10th Avenue\, Othello\, Washington\, 99344\, United States
CATEGORIES:Activity,All IAFI,Palouse Falls,Presentation
ATTACH;FMTTYPE=image/jpeg:https://iafi.org/wp-content/uploads/4384-8-85.jpg
ORGANIZER;CN="Othello Sand Hill Crane Festival":MAILTO:othellocranefest@gmail.com
END:VEVENT
BEGIN:VEVENT
DTSTART;TZID=America/Los_Angeles:20260324T180000
DTEND;TZID=America/Los_Angeles:20260324T193000
DTSTAMP:20260420T055834
CREATED:20260224T194930Z
LAST-MODIFIED:20260224T200639Z
UID:41759-1774375200-1774380600@iafi.org
SUMMARY:Dating Erratic Boulders: How Long Ago Were the Floods?
DESCRIPTION:How do geologists know when the ice age floods actually occurred in the Spokane area? One method is to date the large flood-rafted erratic boulders. We explore the ages of the floods and the methods used to determine their dates and present newly gathered dates from the Spokane region revealing when the floods happened.  \nPresented by Glenn Cruickshank\, vice president of the Ice Age Floods Institute (IAFI)\, Cheney-Spokane Chapter \nRegistration is required.
URL:https://iafi.org/event/dating-erratic-boulders-2026/
LOCATION:Deer Park Library\, 208 S Forest Ave\, Deer Park\, WA\, 99006
CATEGORIES:Cheney-Spokane,Presentation
ATTACH;FMTTYPE=image/jpeg:https://iafi.org/wp-content/uploads/Glacial-Erratics-Hwy-200.jpg
ORGANIZER;CN="Cheney-Spokane Chapter":MAILTO:iaficheneyspokane@gmail.com
END:VEVENT
END:VCALENDAR