BEGIN:VCALENDAR
VERSION:2.0
PRODID:-//Ice Age Floods Institute - ECPv6.15.20//NONSGML v1.0//EN
CALSCALE:GREGORIAN
METHOD:PUBLISH
X-WR-CALNAME:Ice Age Floods Institute
X-ORIGINAL-URL:https://iafi.org
X-WR-CALDESC:Events for Ice Age Floods Institute
REFRESH-INTERVAL;VALUE=DURATION:PT1H
X-Robots-Tag:noindex
X-PUBLISHED-TTL:PT1H
BEGIN:VTIMEZONE
TZID:America/Los_Angeles
BEGIN:DAYLIGHT
TZOFFSETFROM:-0800
TZOFFSETTO:-0700
TZNAME:PDT
DTSTART:20230312T100000
END:DAYLIGHT
BEGIN:STANDARD
TZOFFSETFROM:-0700
TZOFFSETTO:-0800
TZNAME:PST
DTSTART:20231105T090000
END:STANDARD
BEGIN:DAYLIGHT
TZOFFSETFROM:-0800
TZOFFSETTO:-0700
TZNAME:PDT
DTSTART:20240310T100000
END:DAYLIGHT
BEGIN:STANDARD
TZOFFSETFROM:-0700
TZOFFSETTO:-0800
TZNAME:PST
DTSTART:20241103T090000
END:STANDARD
BEGIN:DAYLIGHT
TZOFFSETFROM:-0800
TZOFFSETTO:-0700
TZNAME:PDT
DTSTART:20250309T100000
END:DAYLIGHT
BEGIN:STANDARD
TZOFFSETFROM:-0700
TZOFFSETTO:-0800
TZNAME:PST
DTSTART:20251102T090000
END:STANDARD
END:VTIMEZONE
BEGIN:VEVENT
DTSTART;TZID=America/Los_Angeles:20240921T110000
DTEND;TZID=America/Los_Angeles:20240921T160000
DTSTAMP:20260419T131603
CREATED:20240807T054204Z
LAST-MODIFIED:20240913T213735Z
UID:38277-1726916400-1726934400@iafi.org
SUMMARY:Ellensburg Chapter Field Trip - Teanaway Frm. in Swauk Watershed
DESCRIPTION:The Ellensburg Chapter of the Ice Age Floods Institute (IAFI) will host a field trip that covers the western portion of the Swauk Watershed including Teanaway Ridge north of Ellensburg in the Wenatchee Range on Saturday 21 September.  We will meet near the cabin on USFS road 9738 just off US 97 at 11:00am on the 21st.  The trip will include stops at: \n\nalong Blue Creek to examine Teanaway Formation dikes;\nthe east side of Teanaway Ridge to explore recent landslides;\nRed Top Mountain atop Teanaway Ridge to examine Teanaway Formation flows\, forests\, fire\, landscape change\, and the Red Top fire lookout.\n\nThe trip should conclude at about 4pm. \nEllensburg IAFI field trips are free and open to the public.  There’s no need to pre-register—just show up!  We typically car pool on these trips.  We will drive USFS roads 9738 and 9702 from US 97.  USFS road 9702 is potholed and rough in places but very passable for passenger cars (as of July 2024).  Several of the stops will include short (<0.5 mile hikes) over sometimes steep and uneven terrain.  Pets are OK if leashed and well-behaved. \nIf you have questions\, feel free to contact Karl Lillquist at lillquis@cwu.edu.  Click here for a pdf of the field trip guide.  I will also provide a limited number of hard copies of the field guide at Stop 1. Lets hope for good weather and smoke-free skies for the trip!  Hope you can join us!
URL:https://iafi.org/event/ellensburg-chapter-field-trip-teanaway-frm-in-swauk-watershed/
LOCATION:WA
CATEGORIES:Ellensburg,Field Trip
ATTACH;FMTTYPE=image/jpeg:https://iafi.org/wp-content/uploads/Logo-Ellensburg-HighRes-x200.jpg
ORGANIZER;CN="Ellensburg Chapter":MAILTO:Ellensburg@IAFI.org
END:VEVENT
END:VCALENDAR