BEGIN:VCALENDAR
VERSION:2.0
PRODID:-//Ice Age Floods Institute - ECPv6.15.20//NONSGML v1.0//EN
CALSCALE:GREGORIAN
METHOD:PUBLISH
X-ORIGINAL-URL:https://iafi.org
X-WR-CALDESC:Events for Ice Age Floods Institute
REFRESH-INTERVAL;VALUE=DURATION:PT1H
X-Robots-Tag:noindex
X-PUBLISHED-TTL:PT1H
BEGIN:VTIMEZONE
TZID:America/Los_Angeles
BEGIN:DAYLIGHT
TZOFFSETFROM:-0800
TZOFFSETTO:-0700
TZNAME:PDT
DTSTART:20230312T100000
END:DAYLIGHT
BEGIN:STANDARD
TZOFFSETFROM:-0700
TZOFFSETTO:-0800
TZNAME:PST
DTSTART:20231105T090000
END:STANDARD
BEGIN:DAYLIGHT
TZOFFSETFROM:-0800
TZOFFSETTO:-0700
TZNAME:PDT
DTSTART:20240310T100000
END:DAYLIGHT
BEGIN:STANDARD
TZOFFSETFROM:-0700
TZOFFSETTO:-0800
TZNAME:PST
DTSTART:20241103T090000
END:STANDARD
BEGIN:DAYLIGHT
TZOFFSETFROM:-0800
TZOFFSETTO:-0700
TZNAME:PDT
DTSTART:20250309T100000
END:DAYLIGHT
BEGIN:STANDARD
TZOFFSETFROM:-0700
TZOFFSETTO:-0800
TZNAME:PST
DTSTART:20251102T090000
END:STANDARD
END:VTIMEZONE
BEGIN:VEVENT
DTSTART;TZID=America/Los_Angeles:20240316T100000
DTEND;TZID=America/Los_Angeles:20240316T120000
DTSTAMP:20260419T232308
CREATED:20240311T141208Z
LAST-MODIFIED:20240311T141208Z
UID:37484-1710583200-1710590400@iafi.org
SUMMARY:HIKE: Sacajawea Bar - SECOND CHANCE
DESCRIPTION:Due to inclement weather and illnesses some missed out on the hike on the 2nd\, so this is your second chance!\n\nThose who wish to carpool from northerly points can meet in the parking lot of Java Bloom for a 9AM departure time.\n\nHike starts at the Snake River Junction Trailhead at 10AM. This is a state park\, so a Discovery Pass is required (or you can pay for a day pass at the park site – $10 cash or check at their dropbox).\n\nBring your own water\, snacks\, and lunch.\n\nPlease have a waiver form filled out for each participant. If you have any questions or want to give Lloyd a heads up that you’re coming\, he can be reached at (509) 954-3927
URL:https://iafi.org/event/hike-sacajawea-bar-second-chance/
LOCATION:Snake River Junction Trailhead
CATEGORIES:Hike,Palouse Falls
ATTACH;FMTTYPE=image/jpeg:https://iafi.org/wp-content/uploads/Lake-Sacajawea-Bar.jpg
ORGANIZER;CN="Palouse Falls Chapter":MAILTO:palousefalls@iafi.org
END:VEVENT
END:VCALENDAR