BEGIN:VCALENDAR
VERSION:2.0
PRODID:-//Ice Age Floods Institute - ECPv6.15.20//NONSGML v1.0//EN
CALSCALE:GREGORIAN
METHOD:PUBLISH
X-WR-CALNAME:Ice Age Floods Institute
X-ORIGINAL-URL:https://iafi.org
X-WR-CALDESC:Events for Ice Age Floods Institute
REFRESH-INTERVAL;VALUE=DURATION:PT1H
X-Robots-Tag:noindex
X-PUBLISHED-TTL:PT1H
BEGIN:VTIMEZONE
TZID:America/Los_Angeles
BEGIN:DAYLIGHT
TZOFFSETFROM:-0800
TZOFFSETTO:-0700
TZNAME:PDT
DTSTART:20230312T100000
END:DAYLIGHT
BEGIN:STANDARD
TZOFFSETFROM:-0700
TZOFFSETTO:-0800
TZNAME:PST
DTSTART:20231105T090000
END:STANDARD
BEGIN:DAYLIGHT
TZOFFSETFROM:-0800
TZOFFSETTO:-0700
TZNAME:PDT
DTSTART:20240310T100000
END:DAYLIGHT
BEGIN:STANDARD
TZOFFSETFROM:-0700
TZOFFSETTO:-0800
TZNAME:PST
DTSTART:20241103T090000
END:STANDARD
BEGIN:DAYLIGHT
TZOFFSETFROM:-0800
TZOFFSETTO:-0700
TZNAME:PDT
DTSTART:20250309T100000
END:DAYLIGHT
BEGIN:STANDARD
TZOFFSETFROM:-0700
TZOFFSETTO:-0800
TZNAME:PST
DTSTART:20251102T090000
END:STANDARD
END:VTIMEZONE
BEGIN:VEVENT
DTSTART;TZID=America/Los_Angeles:20240404T190000
DTEND;TZID=America/Los_Angeles:20240406T190000
DTSTAMP:20260419T195758
CREATED:20240330T172510Z
LAST-MODIFIED:20240330T172510Z
UID:37573-1712257200-1712430000@iafi.org
SUMMARY:3 New Nick Zentner "Downtown Lectures"
DESCRIPTION:Thursday\, April 4\, 2024.  7:00 pm.\nWhat Happened to the Spokane Ice Sheet?\n \n\nFriday\, April 5\, 2024.  7:00 pm.\nThe Missoula Floods versus Bretz’s Spokane Flood\n\n \n\nSaturday\, April 6\, 2024.  7:00 pm.\nWas Moses Coulee Carved by Subglacial Floods?\n\n \nDoors open at 6:30 pm each night.  700 seats.  Open seating.  Free.  Will be filmed for YouTube.\nMorgan Auditorium.  400 E 1st Ave.  Ellensburg\, Washington\, USA.
URL:https://iafi.org/event/3-new-nick-zentner-downtown-lectures/
LOCATION:Morgan Auditorium\, 400 E 1st Ave.  \, Ellensburg\, WA\, United States
CATEGORIES:Ellensburg,Entertainment,Lecture
ATTACH;FMTTYPE=image/jpeg:https://iafi.org/wp-content/uploads/2024.04-ZentnerDowntownLectures.jpg
ORGANIZER;CN="Nick Zentner":MAILTO:Outreach@geology.cwu.edu
END:VEVENT
BEGIN:VEVENT
DTSTART;TZID=America/Los_Angeles:20240405T163000
DTEND;TZID=America/Los_Angeles:20240405T180000
DTSTAMP:20260419T195758
CREATED:20240306T190145Z
LAST-MODIFIED:20240306T190145Z
UID:37458-1712334600-1712340000@iafi.org
SUMMARY:Special Meeting of the IAFI Ellensburg Chapter
DESCRIPTION:Dear Members\, Former Members\, and Friends\, \nI trust this message finds you in good health and spirits. I’m Mike Doran\, a fellow member of the Ellensburg Chapter of the Ice Age Floods Institute\, and I’m reaching out to you with an important invitation. \nOur chapter has a storied past filled with enriching field trips\, captivating lectures\, and engaging speakers. However\, it’s time for us to refocus our efforts and ensure that we’re set for continued growth and success in the future. \nTo achieve this\, a dedicated group of us has been actively discussing strategies and ideas. Now\, we’re eager to invite you to join us for a special meeting where we can gather your invaluable input\, ideas\, and concerns. Your participation\, in any capacity you choose\, is vital as we navigate our path forward. \nWe’re fortunate that Karl Lillquist has arranged for us to convene on Friday\, April 5th\, at 4:30 PM in a meeting room at Dean Hall on the Central campus. (Please note that parking restrictions on campus ease after 4:30 PM as there is no cost then. Use parking lot O-5. Just be sure to park in General Parking slots and not Staff slots. ) The meeting time aligns perfectly with Nick’s Bretz lectures\, providing an ideal opportunity for us to meet before attending his 7:00 PM talk. \nDuring our gathering\, we’ll create an open forum for discussion and have light refreshments available. Additionally\, we will be conducting elections for the following officer positions: Secretary\, Vice-President\, and President. This is an excellent opportunity for members to get involved and help shape the future direction of our organization. \nWhether you’re interested in taking an active role in the organization\, standing for election\, or simply wish to share your thoughts\, your presence will be immensely valued. Together\, we aim to bolster Karl and Nick’s efforts and ensure the sustained success of our chapter. \nWe’re genuinely excited about the possibilities that lie ahead and eagerly anticipate seeing you there. \nShould you have any questions or concerns beforehand\, please feel free to reach out to me at 253-278-3470.\nWarm regards\,\nMike Doran
URL:https://iafi.org/event/special-meeting-of-the-iafi-ellensburg-chapter/
LOCATION:Central Washington University\, 400 E University Way\, Ellensburg\, WA\, 98926\, United States
CATEGORIES:Ellensburg,Meeting
ATTACH;FMTTYPE=image/jpeg:https://iafi.org/wp-content/uploads/Logo-Ellensburg-HighRes-Sq.jpg
ORGANIZER;CN="Ellensburg Chapter":MAILTO:Ellensburg@IAFI.org
END:VEVENT
BEGIN:VEVENT
DTSTART;TZID=America/Los_Angeles:20240409T190000
DTEND;TZID=America/Los_Angeles:20240409T203000
DTSTAMP:20260419T195758
CREATED:20240329T185913Z
LAST-MODIFIED:20240422T195706Z
UID:37557-1712689200-1712694600@iafi.org
SUMMARY:The Geology of Sunset Highway
DESCRIPTION:The Wenatchee Valley Erratics Chapter of the Ice Age Floods Institute will meet Tuesday\, April 9 at 7:00 PM\, at the Wenatchee Valley Museum and Cultural Center\, 127 S. Mission\, Wenatchee. Or via Zoom link https://us02web.zoom.us/j/84520197937 Webinar ID: 845 2019 7937 \nDr. Earl F. Cater\, Director of the Douglas County Museum in Waterville\, will present “The Geology of Sunset Highway.” Topics he will discuss include: \n\nEarly Euro-American explorations of the Big Bend country;\nDifficulty in getting to Douglas County because of elevation and size;\nBarriers to Euro-American settlement: Rocks and no roads\, Banks Lake area’s 800-feet high basalt cliffs\, Corbaley Canyon’s fractured gneiss and schist\, rockslides from basalt layers;\nObstacles from glaciation: Yeager Rock and multiple haystack rocks and other glacial features;\nThe first stage in Okanogan\, March 1884: The Jack Smith story;\n1913 Declaration of the Sunset Highway as the Red Trail;\n1926 Declaration of the Sunset Highway as the Yellowstone Trail.\n\nThe program is free and open to the public. \nContact information: \nDr. Earl F. Cater\nDirector\, Douglas County Museum\nefcater@gmail.com\n515-371-3535 \nSusan D. Freiberg\nErratics Chapter Publicity\nwenvalerratics@yahoo.com
URL:https://iafi.org/event/the-geology-of-sunset-highway/
LOCATION:Wenatchee Valley Museum and Cultural Center\, 127 S. Mission\, Wenatchee\, WA\, United States
CATEGORIES:Lecture,Meeting,Presentation,Wenatchee
ATTACH;FMTTYPE=image/png:https://iafi.org/wp-content/uploads/1913-Sunset-Hwy.png
ORGANIZER;CN="WENATCHEE VALLEY ERRATICS CHAPTER":MAILTO:wenatchee@iafi.org
END:VEVENT
BEGIN:VEVENT
DTSTART;TZID=America/Los_Angeles:20240412T190000
DTEND;TZID=America/Los_Angeles:20240412T220000
DTSTAMP:20260419T195758
CREATED:20240202T000444Z
LAST-MODIFIED:20240202T000444Z
UID:37273-1712948400-1712959200@iafi.org
SUMMARY:45th Parallel’s Concert: Lost in Deep Time. April 12\, 2024
DESCRIPTION:This live musical experience immerses the musicians and audience in large-scale projections of landscapes animated to the contemporary classical program. Using photogrammetry and LiDAR\, the scenes are rendered in three-dimensional point clouds that animate to reveal the sculptural aspects of the geology and landforms. \nThe second half of the evening’s program is “He Who Saw the Deep\,” which are five studies for a larger piece in development about the ice age floods. Principally drawing on floodscapes in the Channeled Scablands\, these five works explore the enigmatic landscapes that inspired J Harlen Bretz’s cataclysmic flood theory set to a musical program performed by Pyxis Quartet.\n\n\n\n\nFriday\, April 12\, 2024 at 7:00PM\nStraub Collaborative\n3333 NW Industrial St\, Portland\, ORMore information can be found here.  \nGet your tickets at 45th Parallel website.\nWORKS\nAndy Akiho: Prospects of a Misplaced Year \nPERFORMERS\nRon Blessinger\, violin\nGreg Ewer\, violin\nCharles Noble\, viola\nMarilyn de Oliviera\, cello\nYoko Greeney\, piano\nBrad Johnson\, visual artist\n\n\n\n\nMeanwhile\, enjoy this trailer video
URL:https://iafi.org/event/45th-parallels-concert-lost-in-deep-time-april-12-2024/
LOCATION:Straub Collaborative\, 3333 NW Industrial St\,\, Portland\, OR\, United States
CATEGORIES:All IAFI,Columbia Gorge,Entertainment,Lower Columbia,Presentation
ATTACH;FMTTYPE=image/jpeg:https://iafi.org/wp-content/uploads/45th-Parallel5.jpg
END:VEVENT
BEGIN:VEVENT
DTSTART;VALUE=DATE:20240418
DTEND;VALUE=DATE:20240420
DTSTAMP:20260419T195758
CREATED:20240313T223403Z
LAST-MODIFIED:20240315T004322Z
UID:37493-1713398400-1713571199@iafi.org
SUMMARY:Field Trip to the Ice Dam Site
DESCRIPTION:A field trip to Sandpoint ID to view geologic features related to the ice dam(s) that blocked the Clark Fork River causing the formation of Glacial Lake Missoula is planned for April 17-19th by the Glacial Lake Missoula chapter.  Tony Lewis of the Coeur du Deluge Chapter will narrate a day long bus trip on April 18.  A car caravan will visit Farragut State Park and other downstream sites the next day.   Registration is limited and is being handled by the Montana Natural History Center at https://events.humanitix.com/ice-dam-field-trip \nDiscounted registration is available at Schweitzer Resort until March 18th.  For further information check out these details or contact Sherry McLauchlan\, 406-207-7760.
URL:https://iafi.org/event/field-trip-to-the-dam-site/
LOCATION:WA
CATEGORIES:Coeur,Field Trip,Missoula
ATTACH;FMTTYPE=image/jpeg:https://iafi.org/wp-content/uploads/scwietzer-to-green-monarch-e1710367041337.jpg
END:VEVENT
BEGIN:VEVENT
DTSTART;TZID=America/Los_Angeles:20240425T100000
DTEND;TZID=America/Los_Angeles:20240425T130000
DTSTAMP:20260419T195758
CREATED:20240416T174155Z
LAST-MODIFIED:20240416T174155Z
UID:37699-1714039200-1714050000@iafi.org
SUMMARY:Field Presentations to 7th Grade Science Students
DESCRIPTION:On Thursday\, April 25\, four classes of 7th grade science students from Henkle Middle School will be visiting Fort Cascades Park on the Columbia River below Bonneville Dam for talks by Jeanette Burkhardt and Margaret Neumann of Yakama Fisheries and Mid-Columbia Fisheries\, and Lloyd DeKay of the Ice Age Floods Institute. All together\, 90 students will learn more in the field about fish\, natural resources and Gorge geology. The presenters also volunteer in leading field trips for the Columbia Gorge Master Naturalist program.
URL:https://iafi.org/event/field-presentations-to-7th-grade-science-students/
LOCATION:Fort Cascades Regional Park\, North Bonneville\, WA\, 98639\, United States
CATEGORIES:Columbia Gorge,Field Trip,Presentation
ATTACH;FMTTYPE=image/jpeg:https://iafi.org/wp-content/uploads/henkle_logo.jpg
END:VEVENT
END:VCALENDAR